BEGIN:VCALENDAR
VERSION:2.0
PRODID:icalendar-ruby
CALSCALE:GREGORIAN
METHOD:PUBLISH
BEGIN:VTIMEZONE
TZID:Australia/Perth
BEGIN:STANDARD
DTSTART:20090329T020000
TZOFFSETFROM:+0900
TZOFFSETTO:+0800
TZNAME:AWST
END:STANDARD
END:VTIMEZONE
BEGIN:VEVENT
DTSTAMP:20260422T042725Z
UID:inspection_3008318
DTSTART;TZID=Australia/Perth:20260426T120000
DTEND;TZID=Australia/Perth:20260426T123000
CLASS:PUBLIC
CREATED:20260421T182825
DESCRIPTION: 
LAST-MODIFIED:20260421T182825
LOCATION:23 Watcombe Avenue\, BURNS BEACH WA 6028\, Australia
SUMMARY:23 Watcombe Avenue\,  Inspection
URL;VALUE=URI:http://www.redmondrealty.com.au/
END:VEVENT
END:VCALENDAR
