BEGIN:VCALENDAR
VERSION:2.0
PRODID:icalendar-ruby
CALSCALE:GREGORIAN
METHOD:PUBLISH
BEGIN:VTIMEZONE
TZID:Australia/Perth
BEGIN:STANDARD
DTSTART:20090329T020000
TZOFFSETFROM:+0900
TZOFFSETTO:+0800
TZNAME:AWST
END:STANDARD
END:VTIMEZONE
BEGIN:VEVENT
DTSTAMP:20260419T143155Z
UID:inspection_3003588
DTSTART;TZID=Australia/Perth:20260423T173000
DTEND;TZID=Australia/Perth:20260423T183000
CLASS:PUBLIC
CREATED:20260419T164952
DESCRIPTION: 
LAST-MODIFIED:20260419T164952
LOCATION:47 Amethyst Parkway\, AVELEY WA 6069\, Australia
SUMMARY:47 Amethyst Parkway\,  Inspection
URL;VALUE=URI:http://www.redmondrealty.com.au/
END:VEVENT
END:VCALENDAR
